Workbook

Sheet Schedule
A1: Week # | G1: Qual Games | H1: =COUNTA(A4:A37) -> 34
A2: Bet Unit | B2: 100
A3: Week # | B3: Date | C3: G # | D3: Bet Team | E3: Column1 | F3: H/A | G3: Opponent | H3: Spread | I3: Line | J3: Risk | K3: W/L | L3: Profit
A4: 2 | B4: 40440 | C4: 1 | D4: Green Bay | E4: =Schedule[[#This Row],[Bet Team]]&Schedule[[#This Row],[G '#]] -> Green Bay1 | F4: Home | G4: Buffalo | H4: -6.5 | I4: -170 | J4: =IF(C4=1,$B$2,VLOOKUP(D4&C4-1,E:L,8,FALSE)+$B$2*I4) -> 100 | K4: Win | L4: =IF(K4="Win",$B$2,IF(K4="Loss",J4*-1,IF(K4="Push",0,IF(K4="","")))) -> 100
A5: 2 | B5: 40440 | C5: 1 | D5: Buffalo | E5: =Schedule[[#This Row],[Bet Team]]&Schedule[[#This Row],[G '#]] -> Buffalo1 | F5: Away | G5: Green Bay | H5: -7 | I5: -170 | J5: =IF(C5=1,$B$2,VLOOKUP(D5&C5-1,E:L,8,FALSE)+$B$2*I5) -> 100 | K5: Win | L5: =IF(K5="Win",$B$2,IF(K5="Loss",J5*-1,IF(K5="Push",0,IF(K5="","")))) -> 100
A6: 2 | B6: 40440 | C6: 1 | D6: Detroit | E6: =Schedule[[#This Row],[Bet Team]]&Schedule[[#This Row],[G '#]] -> Detroit1 | F6: Home | G6: Philidelphia | J6: =IF(C6=1,$B$2,VLOOKUP(D6&C6-1,E:L,8,FALSE)+$B$2*I6) -> 100 | L6: =IF(K6="Win",$B$2,IF(K6="Loss",J6*-1,IF(K6="Push",0,IF(K6="",""))))
A7: 3 | B7: 40447 | C7: 1 | D7: New England | E7: =Schedule[[#This Row],[Bet Team]]&Schedule[[#This Row],[G '#]] -> New England1 | F7: Home | G7: Buffalo | J7: =IF(C7=1,$B$2,VLOOKUP(D7&C7-1,E:L,8,FALSE)+$B$2*I7) -> 100 | L7: =IF(K7="Win",$B$2,IF(K7="Loss",J7*-1,IF(K7="Push",0,IF(K7="",""))))
A8: 3 | B8: 40447 | C8: 1 | D8: Cleveland | E8: =Schedule[[#This Row],[Bet Team]]&Schedule[[#This Row],[G '#]] -> Cleveland1 | F8: Away | G8: Baltimore | J8: =IF(C8=1,$B$2,VLOOKUP(D8&C8-1,E:L,8,FALSE)+$B$2*I8) -> 100 | L8: =IF(K8="Win",$B$2,IF(K8="Loss",J8*-1,IF(K8="Push",0,IF(K8="",""))))
A9: 3 | B9: 40447 | C9: 2 | D9: Buffalo | E9: =Schedule[[#This Row],[Bet Team]]&Schedule[[#This Row],[G '#]] -> Buffalo2 | F9: Away | G9: New England | J9: =IF(C9=1,$B$2,VLOOKUP(D9&C9-1,E:L,8,FALSE)+$B$2*I9) -> 100 | L9: =IF(K9="Win",$B$2,IF(K9="Loss",J9*-1,IF(K9="Push",0,IF(K9="",""))))
A10: 3 | B10: 40447 | C10: 1 | D10: Tampa Bay | E10: =Schedule[[#This Row],[Bet Team]]&Schedule[[#This Row],[G '#]] -> Tampa Bay1 | F10: Home | G10: Pittsburgh | J10: =IF(C10=1,$B$2,VLOOKUP(D10&C10-1,E:L,8,FALSE)+$B$2*I10) -> 100 | L10: =IF(K10="Win",$B$2,IF(K10="Loss",J10*-1,IF(K10="Push",0,IF(K10="",""))))
A11: 3 | B11: 40447 | C11: 2 | D11: Detroit | E11: =Schedule[[#This Row],[Bet Team]]&Schedule[[#This Row],[G '#]] -> Detroit2 | F11: Away | G11: Minnesota | J11: =IF(C11=1,$B$2,VLOOKUP(D11&C11-1,E:L,8,FALSE)+$B$2*I11) -> #VALUE! | L11: =IF(K11="Win",$B$2,IF(K11="Loss",J11*-1,IF(K11="Push",0,IF(K11="",""))))
A12: 4 | B12: 40454 | C12: 2 | D12: Green Bay | E12: =Schedule[[#This Row],[Bet Team]]&Schedule[[#This Row],[G '#]] -> Green Bay2 | F12: Home | G12: Detroit | J12: =IF(C12=1,$B$2,VLOOKUP(D12&C12-1,E:L,8,FALSE)+$B$2*I12) -> 100 | L12: =IF(K12="Win",$B$2,IF(K12="Loss",J12*-1,IF(K12="Push",0,IF(K12="",""))))
A13: 4 | B13: 40454 | C13: 3 | D13: Buffalo | E13: =Schedule[[#This Row],[Bet Team]]&Schedule[[#This Row],[G '#]] -> Buffalo3 | F13: Home | G13: NY (Jets) | J13: =IF(C13=1,$B$2,VLOOKUP(D13&C13-1,E:L,8,FALSE)+$B$2*I13) -> #VALUE! | L13: =IF(K13="Win",$B$2,IF(K13="Loss",J13*-1,IF(K13="Push",0,IF(K13="",""))))
A14: 4 | B14: 40454 | C14: 3 | D14: Detroit | E14: =Schedule[[#This Row],[Bet Team]]&Schedule[[#This Row],[G '#]] -> Detroit3 | F14: Away | G14: Green Bay | J14: =IF(C14=1,$B$2,VLOOKUP(D14&C14-1,E:L,8,FALSE)+$B$2*I14) -> #VALUE! | L14: =IF(K14="Win",$B$2,IF(K14="Loss",J14*-1,IF(K14="Push",0,IF(K14="",""))))
A15: 4 | B15: 40454 | C15: 1 | D15: Indianapolis | E15: =Schedule[[#This Row],[Bet Team]]&Schedule[[#This Row],[G '#]] -> Indianapolis1 | F15: Away | G15: Jacksonville | J15: =IF(C15=1,$B$2,VLOOKUP(D15&C15-1,E:L,8,FALSE)+$B$2*I15) -> 100 | L15: =IF(K15="Win",$B$2,IF(K15="Loss",J15*-1,IF(K15="Push",0,IF(K15="",""))))
A16: 5 | B16: 40461 | C16: 2 | D16: Indianapolis | E16: =Schedule[[#This Row],[Bet Team]]&Schedule[[#This Row],[G '#]] -> Indianapolis2 | F16: Home | G16: Kansas City | J16: =IF(C16=1,$B$2,VLOOKUP(D16&C16-1,E:L,8,FALSE)+$B$2*I16) -> #VALUE! | L16: =IF(K16="Win",$B$2,IF(K16="Loss",J16*-1,IF(K16="Push",0,IF(K16="",""))))
A17: 5 | B17: 40461 | C17: 1 | D17: New Orleans | E17: =Schedule[[#This Row],[Bet Team]]&Schedule[[#This Row],[G '#]] -> New Orleans1 | F17: Away | G17: Arizona | J17: =IF(C17=1,$B$2,VLOOKUP(D17&C17-1,E:L,8,FALSE)+$B$2*I17) -> 100 | L17: =IF(K17="Win",$B$2,IF(K17="Loss",J17*-1,IF(K17="Push",0,IF(K17="",""))))
A18: 6 | B18: 40468 | C18: 2 | D18: New Orleans | E18: =Schedule[[#This Row],[Bet Team]]&Schedule[[#This Row],[G '#]] -> New Orleans2 | F18: Away | G18: Tampa Bay | J18: =IF(C18=1,$B$2,VLOOKUP(D18&C18-1,E:L,8,FALSE)+$B$2*I18) -> #VALUE! | L18: =IF(K18="Win",$B$2,IF(K18="Loss",J18*-1,IF(K18="Push",0,IF(K18="",""))))
A19: 6 | B19: 40468 | C19: X | D19: Detroit | E19: =Schedule[[#This Row],[Bet Team]]&Schedule[[#This Row],[G '#]] -> DetroitX | F19: Away | G19: NY (Giants) | J19: =IF(C19=1,$B$2,VLOOKUP(D19&C19-1,E:L,8,FALSE)+$B$2*I19) -> #VALUE! | L19: =IF(K19="Win",$B$2,IF(K19="Loss",J19*-1,IF(K19="Push",0,IF(K19="",""))))
A20: 6 | B20: 40468 | C20: 2 | D20: Tampa Bay | E20: =Schedule[[#This Row],[Bet Team]]&Schedule[[#This Row],[G '#]] -> Tampa Bay2 | F20: Home | G20: New Orleans | J20: =IF(C20=1,$B$2,VLOOKUP(D20&C20-1,E:L,8,FALSE)+$B$2*I20) -> #VALUE! | L20: =IF(K20="Win",$B$2,IF(K20="Loss",J20*-1,IF(K20="Push",0,IF(K20="",""))))
A21: 7 | B21: 40475 | C21: 3 | D21: New Orleans | E21: =Schedule[[#This Row],[Bet Team]]&Schedule[[#This Row],[G '#]] -> New Orleans3 | F21: Home | G21: Cleveland | J21: =IF(C21=1,$B$2,VLOOKUP(D21&C21-1,E:L,8,FALSE)+$B$2*I21) -> #VALUE! | L21: =IF(K21="Win",$B$2,IF(K21="Loss",J21*-1,IF(K21="Push",0,IF(K21="",""))))
A22: 7 | B22: 40475 | C22: X | D22: Buffalo | E22: =Schedule[[#This Row],[Bet Team]]&Schedule[[#This Row],[G '#]] -> BuffaloX | F22: Away | G22: Baltimore | J22: =IF(C22=1,$B$2,VLOOKUP(D22&C22-1,E:L,8,FALSE)+$B$2*I22) -> #VALUE! | L22: =IF(K22="Win",$B$2,IF(K22="Loss",J22*-1,IF(K22="Push",0,IF(K22="",""))))
A23: 7 | B23: 40475 | C23: 2 | D23: Cleveland | E23: =Schedule[[#This Row],[Bet Team]]&Schedule[[#This Row],[G '#]] -> Cleveland2 | F23: Away | G23: New Orleans | J23: =IF(C23=1,$B$2,VLOOKUP(D23&C23-1,E:L,8,FALSE)+$B$2*I23) -> #VALUE! | L23: =IF(K23="Win",$B$2,IF(K23="Loss",J23*-1,IF(K23="Push",0,IF(K23="",""))))
A24: 8 | B24: 40489 | C24: 2 | D24: New England | E24: =Schedule[[#This Row],[Bet Team]]&Schedule[[#This Row],[G '#]] -> New England2 | F24: Away | G24: Cleveland | J24: =IF(C24=1,$B$2,VLOOKUP(D24&C24-1,E:L,8,FALSE)+$B$2*I24) -> #VALUE! | L24: =IF(K24="Win",$B$2,IF(K24="Loss",J24*-1,IF(K24="Push",0,IF(K24="",""))))
A25: 9 | B25: 40489 | C25: X | D25: Detroit | E25: =Schedule[[#This Row],[Bet Team]]&Schedule[[#This Row],[G '#]] -> DetroitX | F25: Home | G25: NY (Jets) | J25: =IF(C25=1,$B$2,VLOOKUP(D25&C25-1,E:L,8,FALSE)+$B$2*I25) -> #VALUE! | L25: =IF(K25="Win",$B$2,IF(K25="Loss",J25*-1,IF(K25="Push",0,IF(K25="",""))))
A26: 9 | B26: 40489 | C26: 3 | D26: Cleveland | E26: =Schedule[[#This Row],[Bet Team]]&Schedule[[#This Row],[G '#]] -> Cleveland3 | F26: Home | G26: New England | J26: =IF(C26=1,$B$2,VLOOKUP(D26&C26-1,E:L,8,FALSE)+$B$2*I26) -> #VALUE! | L26: =IF(K26="Win",$B$2,IF(K26="Loss",J26*-1,IF(K26="Push",0,IF(K26="",""))))
A27: 10 | B27: 40496 | C27: X | D27: Cleveland | E27: =Schedule[[#This Row],[Bet Team]]&Schedule[[#This Row],[G '#]] -> ClevelandX | F27: Home | G27: NY (Jets) | J27: =IF(C27=1,$B$2,VLOOKUP(D27&C27-1,E:L,8,FALSE)+$B$2*I27) -> #VALUE! | L27: =IF(K27="Win",$B$2,IF(K27="Loss",J27*-1,IF(K27="Push",0,IF(K27="",""))))
A28: 11 | B28: 40507 | C28: 3 | D28: New England | E28: =Schedule[[#This Row],[Bet Team]]&Schedule[[#This Row],[G '#]] -> New England3 | F28: Away | G28: Detroit | J28: =IF(C28=1,$B$2,VLOOKUP(D28&C28-1,E:L,8,FALSE)+$B$2*I28) -> #VALUE! | L28: =IF(K28="Win",$B$2,IF(K28="Loss",J28*-1,IF(K28="Push",0,IF(K28="",""))))
A29: 11 | B29: 40503 | C29: X | D29: New Orleans | E29: =Schedule[[#This Row],[Bet Team]]&Schedule[[#This Row],[G '#]] -> New OrleansX | F29: Home | G29: Seattle | J29: =IF(C29=1,$B$2,VLOOKUP(D29&C29-1,E:L,8,FALSE)+$B$2*I29) -> #VALUE! | L29: =IF(K29="Win",$B$2,IF(K29="Loss",J29*-1,IF(K29="Push",0,IF(K29="",""))))
A30: 11 | B30: 40503 | C30: X | D30: Detroit | E30: =Schedule[[#This Row],[Bet Team]]&Schedule[[#This Row],[G '#]] -> DetroitX | F30: Away | G30: Dallas | J30: =IF(C30=1,$B$2,VLOOKUP(D30&C30-1,E:L,8,FALSE)+$B$2*I30) -> #VALUE! | L30: =IF(K30="Win",$B$2,IF(K30="Loss",J30*-1,IF(K30="Push",0,IF(K30="",""))))
A31: 12 | B31: 40507 | C31: X | D31: Detroit | E31: =Schedule[[#This Row],[Bet Team]]&Schedule[[#This Row],[G '#]] -> DetroitX | F31: Home | G31: New England | J31: =IF(C31=1,$B$2,VLOOKUP(D31&C31-1,E:L,8,FALSE)+$B$2*I31) -> #VALUE! | L31: =IF(K31="Win",$B$2,IF(K31="Loss",J31*-1,IF(K31="Push",0,IF(K31="",""))))
A32: 12 | B32: 40510 | C32: 3 | D32: Tampa Bay | E32: =Schedule[[#This Row],[Bet Team]]&Schedule[[#This Row],[G '#]] -> Tampa Bay3 | F32: Away | G32: Baltimore | J32: =IF(C32=1,$B$2,VLOOKUP(D32&C32-1,E:L,8,FALSE)+$B$2*I32) -> #VALUE! | L32: =IF(K32="Win",$B$2,IF(K32="Loss",J32*-1,IF(K32="Push",0,IF(K32="",""))))
A33: 13 | B33: 40517 | C33: X | D33: Buffalo | E33: =Schedule[[#This Row],[Bet Team]]&Schedule[[#This Row],[G '#]] -> BuffaloX | F33: Away | G33: Minnesota | J33: =IF(C33=1,$B$2,VLOOKUP(D33&C33-1,E:L,8,FALSE)+$B$2*I33) -> #VALUE! | L33: =IF(K33="Win",$B$2,IF(K33="Loss",J33*-1,IF(K33="Push",0,IF(K33="",""))))
A34: 14 | B34: 40524 | C34: 3 | D34: Green Bay | E34: =Schedule[[#This Row],[Bet Team]]&Schedule[[#This Row],[G '#]] -> Green Bay3 | F34: Away | G34: Detroit | J34: =IF(C34=1,$B$2,VLOOKUP(D34&C34-1,E:L,8,FALSE)+$B$2*I34) -> #VALUE! | L34: =IF(K34="Win",$B$2,IF(K34="Loss",J34*-1,IF(K34="Push",0,IF(K34="",""))))
A35: 14 | B35: 40524 | C35: X | D35: New Orleans | E35: =Schedule[[#This Row],[Bet Team]]&Schedule[[#This Row],[G '#]] -> New OrleansX | F35: Home | G35: St Louis | J35: =IF(C35=1,$B$2,VLOOKUP(D35&C35-1,E:L,8,FALSE)+$B$2*I35) -> #VALUE! | L35: =IF(K35="Win",$B$2,IF(K35="Loss",J35*-1,IF(K35="Push",0,IF(K35="",""))))
A36: 14 | B36: 40524 | C36: X | D36: Detroit | E36: =Schedule[[#This Row],[Bet Team]]&Schedule[[#This Row],[G '#]] -> DetroitX | F36: Home | G36: Green Bay | J36: =IF(C36=1,$B$2,VLOOKUP(D36&C36-1,E:L,8,FALSE)+$B$2*I36) -> #VALUE! | L36: =IF(K36="Win",$B$2,IF(K36="Loss",J36*-1,IF(K36="Push",0,IF(K36="",""))))
A37: 15 | B37: 40531 | C37: 3 | D37: Indianapolis | E37: =Schedule[[#This Row],[Bet Team]]&Schedule[[#This Row],[G '#]] -> Indianapolis3 | F37: Home | G37: Jacksonville | J37: =IF(C37=1,$B$2,VLOOKUP(D37&C37-1,E:L,8,FALSE)+$B$2*I37) -> #VALUE! | L37: =IF(K37="Win",$B$2,IF(K37="Loss",J37*-1,IF(K37="Push",0,IF(K37="",""))))

Sheet Team
A1: Team | B1: Green Bay | F1: Qual Games | G1: =COUNTIF(Schedule!$D$4:$D$37,B1) -> 3 | J1: For more about this sort of array formula see these videos:
J2: Excel Magic Trick 358: Part 1: Return Multiple Items From
A3: Week # | B3: Date | C3: G # | D3: Bet Team | E3: H/A | F3: Opponent | G3: Res | H3: Profit | J3: Excel Magic Trick 360: Part 3: Return Multiple Items From
A4: {=IF(ROWS(A$4:A4)>$G$1,"",INDEX(Schedule!A$2:A$37,SMALL(IF(Schedule[Bet Team]=$B$1,ROW(Schedule[Bet Team])-ROW(Schedule!$D$4)+3),ROWS(A$4:A4))))} -> 2 | B4: {=IF(ROWS(B$4:B4)>$G$1,"",INDEX(Schedule!B$2:B$37,SMALL(IF(Schedule[Bet Team]=$B$1,ROW(Schedule[Bet Team])-ROW(Schedule!$D$4)+3),ROWS(B$4:B4))))} -> 40440 | C4: {=IF(ROWS(C$4:C4)>$G$1,"",INDEX(Schedule!C$2:C$37,SMALL(IF(Schedule[Bet Team]=$B$1,ROW(Schedule[Bet Team])-ROW(Schedule!$D$4)+3),ROWS(C$4:C4))))} -> 1 | D4: {=IF(ROWS(D$4:D4)>$G$1,"",INDEX(Schedule!D$2:D$37,SMALL(IF(Schedule[Bet Team]=$B$1,ROW(Schedule[Bet Team])-ROW(Schedule!$D$4)+3),ROWS(D$4:D4))))} -> Green Bay | E4: {=IF(ROWS(E$4:E4)>$G$1,"",INDEX(Schedule!F$2:F$37,SMALL(IF(Schedule[Bet Team]=$B$1,ROW(Schedule[Bet Team])-ROW(Schedule!$D$4)+3),ROWS(E$4:E4))))} -> Home | F4: {=IF(ROWS(F$4:F4)>$G$1,"",INDEX(Schedule!G$2:G$37,SMALL(IF(Schedule[Bet Team]=$B$1,ROW(Schedule[Bet Team])-ROW(Schedule!$D$4)+3),ROWS(F$4:F4))))} -> Buffalo | G4: {=IF(ROWS(G$4:G4)>$G$1,"",INDEX(Schedule!H$2:H$37,SMALL(IF(Schedule[Bet Team]=$B$1,ROW(Schedule[Bet Team])-ROW(Schedule!$D$4)+3),ROWS(G$4:G4))))} -> -6.5 | H4: {=IF(ROWS(H$4:H4)>$G$1,"",INDEX(Schedule!K$2:K$37,SMALL(IF(Schedule[Bet Team]=$B$1,ROW(Schedule[Bet Team])-ROW(Schedule!$D$4)+3),ROWS(H$4:H4))))} -> Win | J4: Excel Magic Trick 359: Part 2: Return Multiple Items From
A5: {=IF(ROWS(A$4:A5)>$G$1,"",INDEX(Schedule!A$2:A$37,SMALL(IF(Schedule[Bet Team]=$B$1,ROW(Schedule[Bet Team])-ROW(Schedule!$D$4)+3),ROWS(A$4:A5))))} -> 4 | B5: {=IF(ROWS(B$4:B5)>$G$1,"",INDEX(Schedule!B$2:B$37,SMALL(IF(Schedule[Bet Team]=$B$1,ROW(Schedule[Bet Team])-ROW(Schedule!$D$4)+3),ROWS(B$4:B5))))} -> 40454 | C5: {=IF(ROWS(C$4:C5)>$G$1,"",INDEX(Schedule!C$2:C$37,SMALL(IF(Schedule[Bet Team]=$B$1,ROW(Schedule[Bet Team])-ROW(Schedule!$D$4)+3),ROWS(C$4:C5))))} -> 2 | D5: {=IF(ROWS(D$4:D5)>$G$1,"",INDEX(Schedule!D$2:D$37,SMALL(IF(Schedule[Bet Team]=$B$1,ROW(Schedule[Bet Team])-ROW(Schedule!$D$4)+3),ROWS(D$4:D5))))} -> Green Bay | E5: {=IF(ROWS(E$4:E5)>$G$1,"",INDEX(Schedule!F$2:F$37,SMALL(IF(Schedule[Bet Team]=$B$1,ROW(Schedule[Bet Team])-ROW(Schedule!$D$4)+3),ROWS(E$4:E5))))} -> Home | F5: {=IF(ROWS(F$4:F5)>$G$1,"",INDEX(Schedule!G$2:G$37,SMALL(IF(Schedule[Bet Team]=$B$1,ROW(Schedule[Bet Team])-ROW(Schedule!$D$4)+3),ROWS(F$4:F5))))} -> Detroit | G5: {=IF(ROWS(G$4:G5)>$G$1,"",INDEX(Schedule!H$2:H$37,SMALL(IF(Schedule[Bet Team]=$B$1,ROW(Schedule[Bet Team])-ROW(Schedule!$D$4)+3),ROWS(G$4:G5))))} -> 0 | H5: {=IF(ROWS(H$4:H5)>$G$1,"",INDEX(Schedule!K$2:K$37,SMALL(IF(Schedule[Bet Team]=$B$1,ROW(Schedule[Bet Team])-ROW(Schedule!$D$4)+3),ROWS(H$4:H5))))} -> 0 | J5: For the basics of array formulas see this playlist:
A6: {=IF(ROWS(A$4:A6)>$G$1,"",INDEX(Schedule!A$2:A$37,SMALL(IF(Schedule[Bet Team]=$B$1,ROW(Schedule[Bet Team])-ROW(Schedule!$D$4)+3),ROWS(A$4:A6))))} -> 14 | B6: {=IF(ROWS(B$4:B6)>$G$1,"",INDEX(Schedule!B$2:B$37,SMALL(IF(Schedule[Bet Team]=$B$1,ROW(Schedule[Bet Team])-ROW(Schedule!$D$4)+3),ROWS(B$4:B6))))} -> 40524 | C6: {=IF(ROWS(C$4:C6)>$G$1,"",INDEX(Schedule!C$2:C$37,SMALL(IF(Schedule[Bet Team]=$B$1,ROW(Schedule[Bet Team])-ROW(Schedule!$D$4)+3),ROWS(C$4:C6))))} -> 3 | D6: {=IF(ROWS(D$4:D6)>$G$1,"",INDEX(Schedule!D$2:D$37,SMALL(IF(Schedule[Bet Team]=$B$1,ROW(Schedule[Bet Team])-ROW(Schedule!$D$4)+3),ROWS(D$4:D6))))} -> Green Bay | E6: {=IF(ROWS(E$4:E6)>$G$1,"",INDEX(Schedule!F$2:F$37,SMALL(IF(Schedule[Bet Team]=$B$1,ROW(Schedule[Bet Team])-ROW(Schedule!$D$4)+3),ROWS(E$4:E6))))} -> Away | F6: {=IF(ROWS(F$4:F6)>$G$1,"",INDEX(Schedule!G$2:G$37,SMALL(IF(Schedule[Bet Team]=$B$1,ROW(Schedule[Bet Team])-ROW(Schedule!$D$4)+3),ROWS(F$4:F6))))} -> Detroit | G6: {=IF(ROWS(G$4:G6)>$G$1,"",INDEX(Schedule!H$2:H$37,SMALL(IF(Schedule[Bet Team]=$B$1,ROW(Schedule[Bet Team])-ROW(Schedule!$D$4)+3),ROWS(G$4:G6))))} -> 0 | H6: {=IF(ROWS(H$4:H6)>$G$1,"",INDEX(Schedule!K$2:K$37,SMALL(IF(Schedule[Bet Team]=$B$1,ROW(Schedule[Bet Team])-ROW(Schedule!$D$4)+3),ROWS(H$4:H6))))} -> 0 | J6: http://www.youtube.com/view_play_list?p=007E7E9CA63304D3
A7: {=IF(ROWS(A$4:A7)>$G$1,"",INDEX(Schedule!A$2:A$37,SMALL(IF(Schedule[Bet Team]=$B$1,ROW(Schedule[Bet Team])-ROW(Schedule!$D$4)+3),ROWS(A$4:A7))))} | B7: {=IF(ROWS(B$4:B7)>$G$1,"",INDEX(Schedule!B$2:B$37,SMALL(IF(Schedule[Bet Team]=$B$1,ROW(Schedule[Bet Team])-ROW(Schedule!$D$4)+3),ROWS(B$4:B7))))} | C7: {=IF(ROWS(C$4:C7)>$G$1,"",INDEX(Schedule!C$2:C$37,SMALL(IF(Schedule[Bet Team]=$B$1,ROW(Schedule[Bet Team])-ROW(Schedule!$D$4)+3),ROWS(C$4:C7))))} | D7: {=IF(ROWS(D$4:D7)>$G$1,"",INDEX(Schedule!D$2:D$37,SMALL(IF(Schedule[Bet Team]=$B$1,ROW(Schedule[Bet Team])-ROW(Schedule!$D$4)+3),ROWS(D$4:D7))))} | E7: {=IF(ROWS(E$4:E7)>$G$1,"",INDEX(Schedule!F$2:F$37,SMALL(IF(Schedule[Bet Team]=$B$1,ROW(Schedule[Bet Team])-ROW(Schedule!$D$4)+3),ROWS(E$4:E7))))} | F7: {=IF(ROWS(F$4:F7)>$G$1,"",INDEX(Schedule!G$2:G$37,SMALL(IF(Schedule[Bet Team]=$B$1,ROW(Schedule[Bet Team])-ROW(Schedule!$D$4)+3),ROWS(F$4:F7))))} | G7: {=IF(ROWS(G$4:G7)>$G$1,"",INDEX(Schedule!H$2:H$37,SMALL(IF(Schedule[Bet Team]=$B$1,ROW(Schedule[Bet Team])-ROW(Schedule!$D$4)+3),ROWS(G$4:G7))))} | H7: {=IF(ROWS(H$4:H7)>$G$1,"",INDEX(Schedule!K$2:K$37,SMALL(IF(Schedule[Bet Team]=$B$1,ROW(Schedule[Bet Team])-ROW(Schedule!$D$4)+3),ROWS(H$4:H7))))}
A8: {=IF(ROWS(A$4:A8)>$G$1,"",INDEX(Schedule!A$2:A$37,SMALL(IF(Schedule[Bet Team]=$B$1,ROW(Schedule[Bet Team])-ROW(Schedule!$D$4)+3),ROWS(A$4:A8))))} | B8: {=IF(ROWS(B$4:B8)>$G$1,"",INDEX(Schedule!B$2:B$37,SMALL(IF(Schedule[Bet Team]=$B$1,ROW(Schedule[Bet Team])-ROW(Schedule!$D$4)+3),ROWS(B$4:B8))))} | C8: {=IF(ROWS(C$4:C8)>$G$1,"",INDEX(Schedule!C$2:C$37,SMALL(IF(Schedule[Bet Team]=$B$1,ROW(Schedule[Bet Team])-ROW(Schedule!$D$4)+3),ROWS(C$4:C8))))} | D8: {=IF(ROWS(D$4:D8)>$G$1,"",INDEX(Schedule!D$2:D$37,SMALL(IF(Schedule[Bet Team]=$B$1,ROW(Schedule[Bet Team])-ROW(Schedule!$D$4)+3),ROWS(D$4:D8))))} | E8: {=IF(ROWS(E$4:E8)>$G$1,"",INDEX(Schedule!F$2:F$37,SMALL(IF(Schedule[Bet Team]=$B$1,ROW(Schedule[Bet Team])-ROW(Schedule!$D$4)+3),ROWS(E$4:E8))))} | F8: {=IF(ROWS(F$4:F8)>$G$1,"",INDEX(Schedule!G$2:G$37,SMALL(IF(Schedule[Bet Team]=$B$1,ROW(Schedule[Bet Team])-ROW(Schedule!$D$4)+3),ROWS(F$4:F8))))} | G8: {=IF(ROWS(G$4:G8)>$G$1,"",INDEX(Schedule!H$2:H$37,SMALL(IF(Schedule[Bet Team]=$B$1,ROW(Schedule[Bet Team])-ROW(Schedule!$D$4)+3),ROWS(G$4:G8))))} | H8: {=IF(ROWS(H$4:H8)>$G$1,"",INDEX(Schedule!K$2:K$37,SMALL(IF(Schedule[Bet Team]=$B$1,ROW(Schedule[Bet Team])-ROW(Schedule!$D$4)+3),ROWS(H$4:H8))))} | J8: Ctrl + T to create Table that has dynamic ranges
A9: {=IF(ROWS(A$4:A9)>$G$1,"",INDEX(Schedule!A$2:A$37,SMALL(IF(Schedule[Bet Team]=$B$1,ROW(Schedule[Bet Team])-ROW(Schedule!$D$4)+3),ROWS(A$4:A9))))} | B9: {=IF(ROWS(B$4:B9)>$G$1,"",INDEX(Schedule!B$2:B$37,SMALL(IF(Schedule[Bet Team]=$B$1,ROW(Schedule[Bet Team])-ROW(Schedule!$D$4)+3),ROWS(B$4:B9))))} | C9: {=IF(ROWS(C$4:C9)>$G$1,"",INDEX(Schedule!C$2:C$37,SMALL(IF(Schedule[Bet Team]=$B$1,ROW(Schedule[Bet Team])-ROW(Schedule!$D$4)+3),ROWS(C$4:C9))))} | D9: {=IF(ROWS(D$4:D9)>$G$1,"",INDEX(Schedule!D$2:D$37,SMALL(IF(Schedule[Bet Team]=$B$1,ROW(Schedule[Bet Team])-ROW(Schedule!$D$4)+3),ROWS(D$4:D9))))} | E9: {=IF(ROWS(E$4:E9)>$G$1,"",INDEX(Schedule!F$2:F$37,SMALL(IF(Schedule[Bet Team]=$B$1,ROW(Schedule[Bet Team])-ROW(Schedule!$D$4)+3),ROWS(E$4:E9))))} | F9: {=IF(ROWS(F$4:F9)>$G$1,"",INDEX(Schedule!G$2:G$37,SMALL(IF(Schedule[Bet Team]=$B$1,ROW(Schedule[Bet Team])-ROW(Schedule!$D$4)+3),ROWS(F$4:F9))))} | G9: {=IF(ROWS(G$4:G9)>$G$1,"",INDEX(Schedule!H$2:H$37,SMALL(IF(Schedule[Bet Team]=$B$1,ROW(Schedule[Bet Team])-ROW(Schedule!$D$4)+3),ROWS(G$4:G9))))} | H9: {=IF(ROWS(H$4:H9)>$G$1,"",INDEX(Schedule!K$2:K$37,SMALL(IF(Schedule[Bet Team]=$B$1,ROW(Schedule[Bet Team])-ROW(Schedule!$D$4)+3),ROWS(H$4:H9))))}
A10: {=IF(ROWS(A$4:A10)>$G$1,"",INDEX(Schedule!A$2:A$37,SMALL(IF(Schedule[Bet Team]=$B$1,ROW(Schedule[Bet Team])-ROW(Schedule!$D$4)+3),ROWS(A$4:A10))))} | B10: {=IF(ROWS(B$4:B10)>$G$1,"",INDEX(Schedule!B$2:B$37,SMALL(IF(Schedule[Bet Team]=$B$1,ROW(Schedule[Bet Team])-ROW(Schedule!$D$4)+3),ROWS(B$4:B10))))} | C10: {=IF(ROWS(C$4:C10)>$G$1,"",INDEX(Schedule!C$2:C$37,SMALL(IF(Schedule[Bet Team]=$B$1,ROW(Schedule[Bet Team])-ROW(Schedule!$D$4)+3),ROWS(C$4:C10))))} | D10: {=IF(ROWS(D$4:D10)>$G$1,"",INDEX(Schedule!D$2:D$37,SMALL(IF(Schedule[Bet Team]=$B$1,ROW(Schedule[Bet Team])-ROW(Schedule!$D$4)+3),ROWS(D$4:D10))))} | E10: {=IF(ROWS(E$4:E10)>$G$1,"",INDEX(Schedule!F$2:F$37,SMALL(IF(Schedule[Bet Team]=$B$1,ROW(Schedule[Bet Team])-ROW(Schedule!$D$4)+3),ROWS(E$4:E10))))} | F10: {=IF(ROWS(F$4:F10)>$G$1,"",INDEX(Schedule!G$2:G$37,SMALL(IF(Schedule[Bet Team]=$B$1,ROW(Schedule[Bet Team])-ROW(Schedule!$D$4)+3),ROWS(F$4:F10))))} | G10: {=IF(ROWS(G$4:G10)>$G$1,"",INDEX(Schedule!H$2:H$37,SMALL(IF(Schedule[Bet Team]=$B$1,ROW(Schedule[Bet Team])-ROW(Schedule!$D$4)+3),ROWS(G$4:G10))))} | H10: {=IF(ROWS(H$4:H10)>$G$1,"",INDEX(Schedule!K$2:K$37,SMALL(IF(Schedule[Bet Team]=$B$1,ROW(Schedule[Bet Team])-ROW(Schedule!$D$4)+3),ROWS(H$4:H10))))}
A11: {=IF(ROWS(A$4:A11)>$G$1,"",INDEX(Schedule!A$2:A$37,SMALL(IF(Schedule[Bet Team]=$B$1,ROW(Schedule[Bet Team])-ROW(Schedule!$D$4)+3),ROWS(A$4:A11))))} | B11: {=IF(ROWS(B$4:B11)>$G$1,"",INDEX(Schedule!B$2:B$37,SMALL(IF(Schedule[Bet Team]=$B$1,ROW(Schedule[Bet Team])-ROW(Schedule!$D$4)+3),ROWS(B$4:B11))))} | C11: {=IF(ROWS(C$4:C11)>$G$1,"",INDEX(Schedule!C$2:C$37,SMALL(IF(Schedule[Bet Team]=$B$1,ROW(Schedule[Bet Team])-ROW(Schedule!$D$4)+3),ROWS(C$4:C11))))} | D11: {=IF(ROWS(D$4:D11)>$G$1,"",INDEX(Schedule!D$2:D$37,SMALL(IF(Schedule[Bet Team]=$B$1,ROW(Schedule[Bet Team])-ROW(Schedule!$D$4)+3),ROWS(D$4:D11))))} | E11: {=IF(ROWS(E$4:E11)>$G$1,"",INDEX(Schedule!F$2:F$37,SMALL(IF(Schedule[Bet Team]=$B$1,ROW(Schedule[Bet Team])-ROW(Schedule!$D$4)+3),ROWS(E$4:E11))))} | F11: {=IF(ROWS(F$4:F11)>$G$1,"",INDEX(Schedule!G$2:G$37,SMALL(IF(Schedule[Bet Team]=$B$1,ROW(Schedule[Bet Team])-ROW(Schedule!$D$4)+3),ROWS(F$4:F11))))} | G11: {=IF(ROWS(G$4:G11)>$G$1,"",INDEX(Schedule!H$2:H$37,SMALL(IF(Schedule[Bet Team]=$B$1,ROW(Schedule[Bet Team])-ROW(Schedule!$D$4)+3),ROWS(G$4:G11))))} | H11: {=IF(ROWS(H$4:H11)>$G$1,"",INDEX(Schedule!K$2:K$37,SMALL(IF(Schedule[Bet Team]=$B$1,ROW(Schedule[Bet Team])-ROW(Schedule!$D$4)+3),ROWS(H$4:H11))))}
A12: {=IF(ROWS(A$4:A12)>$G$1,"",INDEX(Schedule!A$2:A$37,SMALL(IF(Schedule[Bet Team]=$B$1,ROW(Schedule[Bet Team])-ROW(Schedule!$D$4)+3),ROWS(A$4:A12))))} | B12: {=IF(ROWS(B$4:B12)>$G$1,"",INDEX(Schedule!B$2:B$37,SMALL(IF(Schedule[Bet Team]=$B$1,ROW(Schedule[Bet Team])-ROW(Schedule!$D$4)+3),ROWS(B$4:B12))))} | C12: {=IF(ROWS(C$4:C12)>$G$1,"",INDEX(Schedule!C$2:C$37,SMALL(IF(Schedule[Bet Team]=$B$1,ROW(Schedule[Bet Team])-ROW(Schedule!$D$4)+3),ROWS(C$4:C12))))} | D12: {=IF(ROWS(D$4:D12)>$G$1,"",INDEX(Schedule!D$2:D$37,SMALL(IF(Schedule[Bet Team]=$B$1,ROW(Schedule[Bet Team])-ROW(Schedule!$D$4)+3),ROWS(D$4:D12))))} | E12: {=IF(ROWS(E$4:E12)>$G$1,"",INDEX(Schedule!F$2:F$37,SMALL(IF(Schedule[Bet Team]=$B$1,ROW(Schedule[Bet Team])-ROW(Schedule!$D$4)+3),ROWS(E$4:E12))))} | F12: {=IF(ROWS(F$4:F12)>$G$1,"",INDEX(Schedule!G$2:G$37,SMALL(IF(Schedule[Bet Team]=$B$1,ROW(Schedule[Bet Team])-ROW(Schedule!$D$4)+3),ROWS(F$4:F12))))} | G12: {=IF(ROWS(G$4:G12)>$G$1,"",INDEX(Schedule!H$2:H$37,SMALL(IF(Schedule[Bet Team]=$B$1,ROW(Schedule[Bet Team])-ROW(Schedule!$D$4)+3),ROWS(G$4:G12))))} | H12: {=IF(ROWS(H$4:H12)>$G$1,"",INDEX(Schedule!K$2:K$37,SMALL(IF(Schedule[Bet Team]=$B$1,ROW(Schedule[Bet Team])-ROW(Schedule!$D$4)+3),ROWS(H$4:H12))))}
A13: {=IF(ROWS(A$4:A13)>$G$1,"",INDEX(Schedule!A$2:A$37,SMALL(IF(Schedule[Bet Team]=$B$1,ROW(Schedule[Bet Team])-ROW(Schedule!$D$4)+3),ROWS(A$4:A13))))} | B13: {=IF(ROWS(B$4:B13)>$G$1,"",INDEX(Schedule!B$2:B$37,SMALL(IF(Schedule[Bet Team]=$B$1,ROW(Schedule[Bet Team])-ROW(Schedule!$D$4)+3),ROWS(B$4:B13))))} | C13: {=IF(ROWS(C$4:C13)>$G$1,"",INDEX(Schedule!C$2:C$37,SMALL(IF(Schedule[Bet Team]=$B$1,ROW(Schedule[Bet Team])-ROW(Schedule!$D$4)+3),ROWS(C$4:C13))))} | D13: {=IF(ROWS(D$4:D13)>$G$1,"",INDEX(Schedule!D$2:D$37,SMALL(IF(Schedule[Bet Team]=$B$1,ROW(Schedule[Bet Team])-ROW(Schedule!$D$4)+3),ROWS(D$4:D13))))} | E13: {=IF(ROWS(E$4:E13)>$G$1,"",INDEX(Schedule!F$2:F$37,SMALL(IF(Schedule[Bet Team]=$B$1,ROW(Schedule[Bet Team])-ROW(Schedule!$D$4)+3),ROWS(E$4:E13))))} | F13: {=IF(ROWS(F$4:F13)>$G$1,"",INDEX(Schedule!G$2:G$37,SMALL(IF(Schedule[Bet Team]=$B$1,ROW(Schedule[Bet Team])-ROW(Schedule!$D$4)+3),ROWS(F$4:F13))))} | G13: {=IF(ROWS(G$4:G13)>$G$1,"",INDEX(Schedule!H$2:H$37,SMALL(IF(Schedule[Bet Team]=$B$1,ROW(Schedule[Bet Team])-ROW(Schedule!$D$4)+3),ROWS(G$4:G13))))} | H13: {=IF(ROWS(H$4:H13)>$G$1,"",INDEX(Schedule!K$2:K$37,SMALL(IF(Schedule[Bet Team]=$B$1,ROW(Schedule[Bet Team])-ROW(Schedule!$D$4)+3),ROWS(H$4:H13))))}
A14: {=IF(ROWS(A$4:A14)>$G$1,"",INDEX(Schedule!A$2:A$37,SMALL(IF(Schedule[Bet Team]=$B$1,ROW(Schedule[Bet Team])-ROW(Schedule!$D$4)+3),ROWS(A$4:A14))))} | B14: {=IF(ROWS(B$4:B14)>$G$1,"",INDEX(Schedule!B$2:B$37,SMALL(IF(Schedule[Bet Team]=$B$1,ROW(Schedule[Bet Team])-ROW(Schedule!$D$4)+3),ROWS(B$4:B14))))} | C14: {=IF(ROWS(C$4:C14)>$G$1,"",INDEX(Schedule!C$2:C$37,SMALL(IF(Schedule[Bet Team]=$B$1,ROW(Schedule[Bet Team])-ROW(Schedule!$D$4)+3),ROWS(C$4:C14))))} | D14: {=IF(ROWS(D$4:D14)>$G$1,"",INDEX(Schedule!D$2:D$37,SMALL(IF(Schedule[Bet Team]=$B$1,ROW(Schedule[Bet Team])-ROW(Schedule!$D$4)+3),ROWS(D$4:D14))))} | E14: {=IF(ROWS(E$4:E14)>$G$1,"",INDEX(Schedule!F$2:F$37,SMALL(IF(Schedule[Bet Team]=$B$1,ROW(Schedule[Bet Team])-ROW(Schedule!$D$4)+3),ROWS(E$4:E14))))} | F14: {=IF(ROWS(F$4:F14)>$G$1,"",INDEX(Schedule!G$2:G$37,SMALL(IF(Schedule[Bet Team]=$B$1,ROW(Schedule[Bet Team])-ROW(Schedule!$D$4)+3),ROWS(F$4:F14))))} | G14: {=IF(ROWS(G$4:G14)>$G$1,"",INDEX(Schedule!H$2:H$37,SMALL(IF(Schedule[Bet Team]=$B$1,ROW(Schedule[Bet Team])-ROW(Schedule!$D$4)+3),ROWS(G$4:G14))))} | H14: {=IF(ROWS(H$4:H14)>$G$1,"",INDEX(Schedule!K$2:K$37,SMALL(IF(Schedule[Bet Team]=$B$1,ROW(Schedule[Bet Team])-ROW(Schedule!$D$4)+3),ROWS(H$4:H14))))}
A15: {=IF(ROWS(A$4:A15)>$G$1,"",INDEX(Schedule!A$2:A$37,SMALL(IF(Schedule[Bet Team]=$B$1,ROW(Schedule[Bet Team])-ROW(Schedule!$D$4)+3),ROWS(A$4:A15))))} | B15: {=IF(ROWS(B$4:B15)>$G$1,"",INDEX(Schedule!B$2:B$37,SMALL(IF(Schedule[Bet Team]=$B$1,ROW(Schedule[Bet Team])-ROW(Schedule!$D$4)+3),ROWS(B$4:B15))))} | C15: {=IF(ROWS(C$4:C15)>$G$1,"",INDEX(Schedule!C$2:C$37,SMALL(IF(Schedule[Bet Team]=$B$1,ROW(Schedule[Bet Team])-ROW(Schedule!$D$4)+3),ROWS(C$4:C15))))} | D15: {=IF(ROWS(D$4:D15)>$G$1,"",INDEX(Schedule!D$2:D$37,SMALL(IF(Schedule[Bet Team]=$B$1,ROW(Schedule[Bet Team])-ROW(Schedule!$D$4)+3),ROWS(D$4:D15))))} | E15: {=IF(ROWS(E$4:E15)>$G$1,"",INDEX(Schedule!F$2:F$37,SMALL(IF(Schedule[Bet Team]=$B$1,ROW(Schedule[Bet Team])-ROW(Schedule!$D$4)+3),ROWS(E$4:E15))))} | F15: {=IF(ROWS(F$4:F15)>$G$1,"",INDEX(Schedule!G$2:G$37,SMALL(IF(Schedule[Bet Team]=$B$1,ROW(Schedule[Bet Team])-ROW(Schedule!$D$4)+3),ROWS(F$4:F15))))} | G15: {=IF(ROWS(G$4:G15)>$G$1,"",INDEX(Schedule!H$2:H$37,SMALL(IF(Schedule[Bet Team]=$B$1,ROW(Schedule[Bet Team])-ROW(Schedule!$D$4)+3),ROWS(G$4:G15))))} | H15: {=IF(ROWS(H$4:H15)>$G$1,"",INDEX(Schedule!K$2:K$37,SMALL(IF(Schedule[Bet Team]=$B$1,ROW(Schedule[Bet Team])-ROW(Schedule!$D$4)+3),ROWS(H$4:H15))))}
A16: {=IF(ROWS(A$4:A16)>$G$1,"",INDEX(Schedule!A$2:A$37,SMALL(IF(Schedule[Bet Team]=$B$1,ROW(Schedule[Bet Team])-ROW(Schedule!$D$4)+3),ROWS(A$4:A16))))} | B16: {=IF(ROWS(B$4:B16)>$G$1,"",INDEX(Schedule!B$2:B$37,SMALL(IF(Schedule[Bet Team]=$B$1,ROW(Schedule[Bet Team])-ROW(Schedule!$D$4)+3),ROWS(B$4:B16))))} | C16: {=IF(ROWS(C$4:C16)>$G$1,"",INDEX(Schedule!C$2:C$37,SMALL(IF(Schedule[Bet Team]=$B$1,ROW(Schedule[Bet Team])-ROW(Schedule!$D$4)+3),ROWS(C$4:C16))))} | D16: {=IF(ROWS(D$4:D16)>$G$1,"",INDEX(Schedule!D$2:D$37,SMALL(IF(Schedule[Bet Team]=$B$1,ROW(Schedule[Bet Team])-ROW(Schedule!$D$4)+3),ROWS(D$4:D16))))} | E16: {=IF(ROWS(E$4:E16)>$G$1,"",INDEX(Schedule!F$2:F$37,SMALL(IF(Schedule[Bet Team]=$B$1,ROW(Schedule[Bet Team])-ROW(Schedule!$D$4)+3),ROWS(E$4:E16))))} | F16: {=IF(ROWS(F$4:F16)>$G$1,"",INDEX(Schedule!G$2:G$37,SMALL(IF(Schedule[Bet Team]=$B$1,ROW(Schedule[Bet Team])-ROW(Schedule!$D$4)+3),ROWS(F$4:F16))))} | G16: {=IF(ROWS(G$4:G16)>$G$1,"",INDEX(Schedule!H$2:H$37,SMALL(IF(Schedule[Bet Team]=$B$1,ROW(Schedule[Bet Team])-ROW(Schedule!$D$4)+3),ROWS(G$4:G16))))} | H16: {=IF(ROWS(H$4:H16)>$G$1,"",INDEX(Schedule!K$2:K$37,SMALL(IF(Schedule[Bet Team]=$B$1,ROW(Schedule[Bet Team])-ROW(Schedule!$D$4)+3),ROWS(H$4:H16))))}
A17: {=IF(ROWS(A$4:A17)>$G$1,"",INDEX(Schedule!A$2:A$37,SMALL(IF(Schedule[Bet Team]=$B$1,ROW(Schedule[Bet Team])-ROW(Schedule!$D$4)+3),ROWS(A$4:A17))))} | B17: {=IF(ROWS(B$4:B17)>$G$1,"",INDEX(Schedule!B$2:B$37,SMALL(IF(Schedule[Bet Team]=$B$1,ROW(Schedule[Bet Team])-ROW(Schedule!$D$4)+3),ROWS(B$4:B17))))} | C17: {=IF(ROWS(C$4:C17)>$G$1,"",INDEX(Schedule!C$2:C$37,SMALL(IF(Schedule[Bet Team]=$B$1,ROW(Schedule[Bet Team])-ROW(Schedule!$D$4)+3),ROWS(C$4:C17))))} | D17: {=IF(ROWS(D$4:D17)>$G$1,"",INDEX(Schedule!D$2:D$37,SMALL(IF(Schedule[Bet Team]=$B$1,ROW(Schedule[Bet Team])-ROW(Schedule!$D$4)+3),ROWS(D$4:D17))))} | E17: {=IF(ROWS(E$4:E17)>$G$1,"",INDEX(Schedule!F$2:F$37,SMALL(IF(Schedule[Bet Team]=$B$1,ROW(Schedule[Bet Team])-ROW(Schedule!$D$4)+3),ROWS(E$4:E17))))} | F17: {=IF(ROWS(F$4:F17)>$G$1,"",INDEX(Schedule!G$2:G$37,SMALL(IF(Schedule[Bet Team]=$B$1,ROW(Schedule[Bet Team])-ROW(Schedule!$D$4)+3),ROWS(F$4:F17))))} | G17: {=IF(ROWS(G$4:G17)>$G$1,"",INDEX(Schedule!H$2:H$37,SMALL(IF(Schedule[Bet Team]=$B$1,ROW(Schedule[Bet Team])-ROW(Schedule!$D$4)+3),ROWS(G$4:G17))))} | H17: {=IF(ROWS(H$4:H17)>$G$1,"",INDEX(Schedule!K$2:K$37,SMALL(IF(Schedule[Bet Team]=$B$1,ROW(Schedule[Bet Team])-ROW(Schedule!$D$4)+3),ROWS(H$4:H17))))}
A18: {=IF(ROWS(A$4:A18)>$G$1,"",INDEX(Schedule!A$2:A$37,SMALL(IF(Schedule[Bet Team]=$B$1,ROW(Schedule[Bet Team])-ROW(Schedule!$D$4)+3),ROWS(A$4:A18))))} | B18: {=IF(ROWS(B$4:B18)>$G$1,"",INDEX(Schedule!B$2:B$37,SMALL(IF(Schedule[Bet Team]=$B$1,ROW(Schedule[Bet Team])-ROW(Schedule!$D$4)+3),ROWS(B$4:B18))))} | C18: {=IF(ROWS(C$4:C18)>$G$1,"",INDEX(Schedule!C$2:C$37,SMALL(IF(Schedule[Bet Team]=$B$1,ROW(Schedule[Bet Team])-ROW(Schedule!$D$4)+3),ROWS(C$4:C18))))} | D18: {=IF(ROWS(D$4:D18)>$G$1,"",INDEX(Schedule!D$2:D$37,SMALL(IF(Schedule[Bet Team]=$B$1,ROW(Schedule[Bet Team])-ROW(Schedule!$D$4)+3),ROWS(D$4:D18))))} | E18: {=IF(ROWS(E$4:E18)>$G$1,"",INDEX(Schedule!F$2:F$37,SMALL(IF(Schedule[Bet Team]=$B$1,ROW(Schedule[Bet Team])-ROW(Schedule!$D$4)+3),ROWS(E$4:E18))))} | F18: {=IF(ROWS(F$4:F18)>$G$1,"",INDEX(Schedule!G$2:G$37,SMALL(IF(Schedule[Bet Team]=$B$1,ROW(Schedule[Bet Team])-ROW(Schedule!$D$4)+3),ROWS(F$4:F18))))} | G18: {=IF(ROWS(G$4:G18)>$G$1,"",INDEX(Schedule!H$2:H$37,SMALL(IF(Schedule[Bet Team]=$B$1,ROW(Schedule[Bet Team])-ROW(Schedule!$D$4)+3),ROWS(G$4:G18))))} | H18: {=IF(ROWS(H$4:H18)>$G$1,"",INDEX(Schedule!K$2:K$37,SMALL(IF(Schedule[Bet Team]=$B$1,ROW(Schedule[Bet Team])-ROW(Schedule!$D$4)+3),ROWS(H$4:H18))))}
A19: {=IF(ROWS(A$4:A19)>$G$1,"",INDEX(Schedule!A$2:A$37,SMALL(IF(Schedule[Bet Team]=$B$1,ROW(Schedule[Bet Team])-ROW(Schedule!$D$4)+3),ROWS(A$4:A19))))} | B19: {=IF(ROWS(B$4:B19)>$G$1,"",INDEX(Schedule!B$2:B$37,SMALL(IF(Schedule[Bet Team]=$B$1,ROW(Schedule[Bet Team])-ROW(Schedule!$D$4)+3),ROWS(B$4:B19))))} | C19: {=IF(ROWS(C$4:C19)>$G$1,"",INDEX(Schedule!C$2:C$37,SMALL(IF(Schedule[Bet Team]=$B$1,ROW(Schedule[Bet Team])-ROW(Schedule!$D$4)+3),ROWS(C$4:C19))))} | D19: {=IF(ROWS(D$4:D19)>$G$1,"",INDEX(Schedule!D$2:D$37,SMALL(IF(Schedule[Bet Team]=$B$1,ROW(Schedule[Bet Team])-ROW(Schedule!$D$4)+3),ROWS(D$4:D19))))} | E19: {=IF(ROWS(E$4:E19)>$G$1,"",INDEX(Schedule!F$2:F$37,SMALL(IF(Schedule[Bet Team]=$B$1,ROW(Schedule[Bet Team])-ROW(Schedule!$D$4)+3),ROWS(E$4:E19))))} | F19: {=IF(ROWS(F$4:F19)>$G$1,"",INDEX(Schedule!G$2:G$37,SMALL(IF(Schedule[Bet Team]=$B$1,ROW(Schedule[Bet Team])-ROW(Schedule!$D$4)+3),ROWS(F$4:F19))))} | G19: {=IF(ROWS(G$4:G19)>$G$1,"",INDEX(Schedule!H$2:H$37,SMALL(IF(Schedule[Bet Team]=$B$1,ROW(Schedule[Bet Team])-ROW(Schedule!$D$4)+3),ROWS(G$4:G19))))} | H19: {=IF(ROWS(H$4:H19)>$G$1,"",INDEX(Schedule!K$2:K$37,SMALL(IF(Schedule[Bet Team]=$B$1,ROW(Schedule[Bet Team])-ROW(Schedule!$D$4)+3),ROWS(H$4:H19))))}
A20: {=IF(ROWS(A$4:A20)>$G$1,"",INDEX(Schedule!A$2:A$37,SMALL(IF(Schedule[Bet Team]=$B$1,ROW(Schedule[Bet Team])-ROW(Schedule!$D$4)+3),ROWS(A$4:A20))))} | B20: {=IF(ROWS(B$4:B20)>$G$1,"",INDEX(Schedule!B$2:B$37,SMALL(IF(Schedule[Bet Team]=$B$1,ROW(Schedule[Bet Team])-ROW(Schedule!$D$4)+3),ROWS(B$4:B20))))} | C20: {=IF(ROWS(C$4:C20)>$G$1,"",INDEX(Schedule!C$2:C$37,SMALL(IF(Schedule[Bet Team]=$B$1,ROW(Schedule[Bet Team])-ROW(Schedule!$D$4)+3),ROWS(C$4:C20))))} | D20: {=IF(ROWS(D$4:D20)>$G$1,"",INDEX(Schedule!D$2:D$37,SMALL(IF(Schedule[Bet Team]=$B$1,ROW(Schedule[Bet Team])-ROW(Schedule!$D$4)+3),ROWS(D$4:D20))))} | E20: {=IF(ROWS(E$4:E20)>$G$1,"",INDEX(Schedule!F$2:F$37,SMALL(IF(Schedule[Bet Team]=$B$1,ROW(Schedule[Bet Team])-ROW(Schedule!$D$4)+3),ROWS(E$4:E20))))} | F20: {=IF(ROWS(F$4:F20)>$G$1,"",INDEX(Schedule!G$2:G$37,SMALL(IF(Schedule[Bet Team]=$B$1,ROW(Schedule[Bet Team])-ROW(Schedule!$D$4)+3),ROWS(F$4:F20))))} | G20: {=IF(ROWS(G$4:G20)>$G$1,"",INDEX(Schedule!H$2:H$37,SMALL(IF(Schedule[Bet Team]=$B$1,ROW(Schedule[Bet Team])-ROW(Schedule!$D$4)+3),ROWS(G$4:G20))))} | H20: {=IF(ROWS(H$4:H20)>$G$1,"",INDEX(Schedule!K$2:K$37,SMALL(IF(Schedule[Bet Team]=$B$1,ROW(Schedule[Bet Team])-ROW(Schedule!$D$4)+3),ROWS(H$4:H20))))}
... A22: {=IF(ROWS(A$4:A22)>$G$1,"",INDEX(Schedule!A$2:A$37,SMALL(IF(Schedule[Bet Team]=$B$1,ROW(Schedule[Bet Team])-ROW(Schedule!$D$4)+3),ROWS(A$4:A22))))} | B22: {=IF(ROWS(B$4:B22)>$G$1,"",INDEX(Schedule!B$2:B$37,SMALL(IF(Schedule[Bet Team]=$B$1,ROW(Schedule[Bet Team])-ROW(Schedule!$D$4)+3),ROWS(B$4:B22))))} | C22: {=IF(ROWS(C$4:C22)>$G$1,"",INDEX(Schedule!C$2:C$37,SMALL(IF(Schedule[Bet Team]=$B$1,ROW(Schedule[Bet Team])-ROW(Schedule!$D$4)+3),ROWS(C$4:C22))))} | D22: {=IF(ROWS(D$4:D22)>$G$1,"",INDEX(Schedule!D$2:D$37,SMALL(IF(Schedule[Bet Team]=$B$1,ROW(Schedule[Bet Team])-ROW(Schedule!$D$4)+3),ROWS(D$4:D22))))} | E22: {=IF(ROWS(E$4:E22)>$G$1,"",INDEX(Schedule!F$2:F$37,SMALL(IF(Schedule[Bet Team]=$B$1,ROW(Schedule[Bet Team])-ROW(Schedule!$D$4)+3),ROWS(E$4:E22))))} | F22: {=IF(ROWS(F$4:F22)>$G$1,"",INDEX(Schedule!G$2:G$37,SMALL(IF(Schedule[Bet Team]=$B$1,ROW(Schedule[Bet Team])-ROW(Schedule!$D$4)+3),ROWS(F$4:F22))))} | G22: {=IF(ROWS(G$4:G22)>$G$1,"",INDEX(Schedule!H$2:H$37,SMALL(IF(Schedule[Bet Team]=$B$1,ROW(Schedule[Bet Team])-ROW(Schedule!$D$4)+3),ROWS(G$4:G22))))} | H22: {=IF(ROWS(H$4:H22)>$G$1,"",INDEX(Schedule!K$2:K$37,SMALL(IF(Schedule[Bet Team]=$B$1,ROW(Schedule[Bet Team])-ROW(Schedule!$D$4)+3),ROWS(H$4:H22))))}
